BEGIN:VCALENDAR
VERSION:2.0
PRODID:-//Tukios.com/
BEGIN:VEVENT
UID:8d28eed2-d6c9-4008-8a60-887bcec7e601@obituaries.forestlawn.com
DTSTAMP:20260423T021959Z
DTSTART:20260509T163000Z
DTEND:20260509T173000Z
SUMMARY:Funeral Service of Bettye Tynes
DESCRIPTION:
URL:https://obituaries.forestlawn.com/obituaries/bettye-tynes
LOCATION:Forest Lawn - Covina Hills - Church of our Heritage 21300 Via 
	Verde Drive  Covina CA 91724
GEO:34.0674771;-117.8423887
END:VEVENT
END:VCALENDAR