BEGIN:VCALENDAR
VERSION:2.0
PRODID:-//Tukios.com/
BEGIN:VEVENT
UID:09269ee4-9bde-44c1-841a-749e14a06753@obituaries.forestlawn.com
DTSTAMP:20260423T022412Z
DTSTART:20260508T210000Z
DTEND:20260508T220000Z
SUMMARY:Visitation of Bettye Tynes
DESCRIPTION:
URL:https://obituaries.forestlawn.com/obituaries/bettye-tynes
LOCATION:Forest Lawn - Covina Hills 21300 Via Verde Drive  Covina CA 
	91724
GEO:34.0674771;-117.8423887
END:VEVENT
END:VCALENDAR