BEGIN:VCALENDAR
VERSION:2.0
PRODID:-//Tukios.com/
BEGIN:VEVENT
UID:85c5384f-f79d-426f-9b29-e35427e8ebca@obituaries.forestlawn.com
DTSTAMP:20260423T040400Z
DTSTART:20260509T203000Z
DTEND:20260509T213000Z
SUMMARY:Funeral Service of Armen Karapedian
DESCRIPTION:
URL:https://obituaries.forestlawn.com/obituaries/armen-karapedian
LOCATION:Forest Lawn - Glendale - Church of the Recessional 1712 South 
	Glendale Avenue  Glendale CA 91205
GEO:34.1246622;-118.2524691
END:VEVENT
END:VCALENDAR