BEGIN:VCALENDAR
VERSION:2.0
PRODID:-//Tukios.com/
BEGIN:VEVENT
UID:23a4a8a8-cd13-4fc1-85cd-02148e97dd2b@obituaries.forestlawn.com
DTSTAMP:20260420T224740Z
DTSTART:20260516T193000Z
DTEND:20260516T200000Z
SUMMARY:Nicheside Service of Antonio Han
DESCRIPTION:
URL:https://obituaries.forestlawn.com/obituaries/antonio-han
LOCATION:Forest Lawn - Hollywood Hills 6300 Forest Lawn Drive  Los 
	Angeles CA 90068
GEO:34.1497997;-118.3269719
END:VEVENT
END:VCALENDAR