BEGIN:VCALENDAR
VERSION:2.0
PRODID:-//Tukios.com/
BEGIN:VEVENT
UID:bf1b7e95-09f2-449c-860b-2de988507e66@obituaries.forestlawn.com
DTSTAMP:20260420T224812Z
DTSTART:20260509T220000Z
DTEND:20260509T230000Z
SUMMARY:Funeral Service of Antonio Han
DESCRIPTION:
URL:https://obituaries.forestlawn.com/obituaries/antonio-han
LOCATION:Forest Lawn - Hollywood Hills - Church of the Hills 6300 Forest 
	Lawn Drive  Los Angeles CA 90068
GEO:34.1497997;-118.3269719
END:VEVENT
END:VCALENDAR