BEGIN:VCALENDAR
VERSION:2.0
PRODID:-//Tukios.com/
BEGIN:VEVENT
UID:79b141a1-f49d-43c3-831e-f5e39c898a57@obituaries.forestlawn.com
DTSTAMP:20260421T203756Z
DTSTART:20260606T193000Z
DTEND:20260606T203000Z
SUMMARY:Memorial Service of Anna Makhanian
DESCRIPTION:
URL:https://obituaries.forestlawn.com/obituaries/anna-makhanian
LOCATION:Forest Lawn - Hollywood Hills - Church of the Hills 6300 Forest 
	Lawn Drive  Los Angeles CA 90068
GEO:34.1497997;-118.3269719
END:VEVENT
END:VCALENDAR