BEGIN:VCALENDAR
VERSION:2.0
PRODID:-//Tukios.com/
BEGIN:VEVENT
UID:8e944520-b263-4a2e-aafe-d793e42a66fa@obituaries.forestlawn.com
DTSTAMP:20260424T012142Z
DTSTART:20260509T193000Z
DTEND:20260509T200000Z
SUMMARY:Nicheside Service of Amelia Steed
DESCRIPTION:
URL:https://obituaries.forestlawn.com/obituaries/amelia-steed-2026
LOCATION:Forest Lawn - Cypress 4471 Lincoln Avenue  Cypress CA 90630
GEO:33.8327423;-118.0555904
END:VEVENT
END:VCALENDAR